BEGIN:VCALENDAR
CALSCALE:GREGORIAN
X-WR-TIMEZONE;VALUE=TEXT:GMT
PRODID:PEAK Corporation - piCal -
X-WR-CALNAME;VALUE=TEXT:山形県太極拳協会平成20年度総会
VERSION:2.0
METHOD:PUBLISH
BEGIN:VTIMEZONE
TZID:GMT
BEGIN:STANDARD
DTSTART:19390101T000000
TZOFFSETFROM:+0000
TZOFFSETTO:+0000
TZNAME:GMT
END:STANDARD
END:VTIMEZONE
BEGIN:VEVENT
DTSTART:20080510T090000Z
DTEND:20080510T170000Z
LOCATION:山形市
TRANSP:OPAQUE
SEQUENCE:0
UID:pical060-48e166b8f7b62b62416579dfc590208b
DTSTAMP:20080515T144445Z
CATEGORIES:
DESCRIPTION:
SUMMARY:山形県太極拳協会平成20年度総会
PRIORITY:0
CLASS:PUBLIC
END:VEVENT
END:VCALENDAR
