BEGIN:VCALENDAR
CALSCALE:GREGORIAN
X-WR-TIMEZONE;VALUE=TEXT:GMT
PRODID:PEAK Corporation - piCal -
X-WR-CALNAME;VALUE=TEXT:C級指導員認定試験
VERSION:2.0
METHOD:PUBLISH
BEGIN:VTIMEZONE
TZID:GMT
BEGIN:STANDARD
DTSTART:19390101T000000
TZOFFSETFROM:+0000
TZOFFSETTO:+0000
TZNAME:GMT
END:STANDARD
END:VTIMEZONE
BEGIN:VEVENT
DTSTART:20080426T090000Z
DTEND:20080427T170000Z
LOCATION:仙台市:東京都
TRANSP:OPAQUE
SEQUENCE:0
UID:pical060-d6daa2cb7576d4636c3ae01e13fb722e
DTSTAMP:20080515T144625Z
CATEGORIES:
DESCRIPTION:
SUMMARY:C級指導員認定試験
PRIORITY:0
CLASS:PUBLIC
END:VEVENT
END:VCALENDAR
