BEGIN:VCALENDAR
CALSCALE:GREGORIAN
X-WR-TIMEZONE;VALUE=TEXT:GMT
PRODID:PEAK Corporation - piCal -
X-WR-CALNAME;VALUE=TEXT:レベルアップ講習会　連盟主催
VERSION:2.0
METHOD:PUBLISH
BEGIN:VTIMEZONE
TZID:GMT
BEGIN:STANDARD
DTSTART:19390101T000000
TZOFFSETFROM:+0000
TZOFFSETTO:+0000
TZNAME:GMT
END:STANDARD
END:VTIMEZONE
BEGIN:VEVENT
DTSTART:20080427T090000Z
DTEND:20080427T170000Z
LOCATION:山形市元木公民館
TRANSP:OPAQUE
SEQUENCE:0
UID:pical060-c8c9d359697588d92279217759a3a95c
DTSTAMP:20080515T144718Z
CATEGORIES:
DESCRIPTION:
SUMMARY:レベルアップ講習会　連盟主催
PRIORITY:0
CLASS:PUBLIC
END:VEVENT
END:VCALENDAR
