BEGIN:VCALENDAR
CALSCALE:GREGORIAN
X-WR-TIMEZONE;VALUE=TEXT:GMT
PRODID:PEAK Corporation - piCal -
X-WR-CALNAME;VALUE=TEXT:B級指導員認定試験
VERSION:2.0
METHOD:PUBLISH
BEGIN:VTIMEZONE
TZID:GMT
BEGIN:STANDARD
DTSTART:19390101T000000
TZOFFSETFROM:+0000
TZOFFSETTO:+0000
TZNAME:GMT
END:STANDARD
END:VTIMEZONE
BEGIN:VEVENT
DTSTART:20080502T090000Z
DTEND:20080504T170000Z
LOCATION:東京ビッグサイト
TRANSP:OPAQUE
SEQUENCE:0
UID:pical060-1334d09f7dca6565340cbd76ed2f7871
DTSTAMP:20080515T144815Z
CATEGORIES:
DESCRIPTION:
SUMMARY:B級指導員認定試験
PRIORITY:0
CLASS:PUBLIC
END:VEVENT
END:VCALENDAR
