BEGIN:VCALENDAR
CALSCALE:GREGORIAN
X-WR-TIMEZONE;VALUE=TEXT:GMT
PRODID:PEAK Corporation - piCal -
X-WR-CALNAME;VALUE=TEXT:レベルアップ講習会　ブロック講師
VERSION:2.0
METHOD:PUBLISH
BEGIN:VTIMEZONE
TZID:GMT
BEGIN:STANDARD
DTSTART:19390101T000000
TZOFFSETFROM:+0000
TZOFFSETTO:+0000
TZNAME:GMT
END:STANDARD
END:VTIMEZONE
BEGIN:VEVENT
DTSTART:20080629T090000Z
DTEND:20080629T170000Z
LOCATION:山形市江南体育館
TRANSP:OPAQUE
SEQUENCE:0
UID:pical060-dfdb6890eee477acb1098a2972af6d8b
DTSTAMP:20080515T145058Z
CATEGORIES:
DESCRIPTION:
SUMMARY:レベルアップ講習会　ブロック講師
PRIORITY:0
CLASS:PUBLIC
END:VEVENT
END:VCALENDAR
