BEGIN:VCALENDAR
CALSCALE:GREGORIAN
X-WR-TIMEZONE;VALUE=TEXT:GMT
PRODID:PEAK Corporation - piCal -
X-WR-CALNAME;VALUE=TEXT:前期５〜２級技能検定
VERSION:2.0
METHOD:PUBLISH
BEGIN:VTIMEZONE
TZID:GMT
BEGIN:STANDARD
DTSTART:19390101T000000
TZOFFSETFROM:+0000
TZOFFSETTO:+0000
TZNAME:GMT
END:STANDARD
END:VTIMEZONE
BEGIN:VEVENT
DTSTART:20080803T090000Z
DTEND:20080803T170000Z
LOCATION:山形市
TRANSP:OPAQUE
SEQUENCE:0
UID:pical060-fa866c12df09b54c91bdb0bf45839e9f
DTSTAMP:20080515T145942Z
CATEGORIES:
DESCRIPTION:
SUMMARY:前期５〜２級技能検定
PRIORITY:0
CLASS:PUBLIC
END:VEVENT
END:VCALENDAR
