BEGIN:VCALENDAR
CALSCALE:GREGORIAN
X-WR-TIMEZONE;VALUE=TEXT:GMT
PRODID:PEAK Corporation - piCal -
X-WR-CALNAME;VALUE=TEXT:初段・2段受験者対象講習会
VERSION:2.0
METHOD:PUBLISH
BEGIN:VTIMEZONE
TZID:GMT
BEGIN:STANDARD
DTSTART:19390101T000000
TZOFFSETFROM:+0000
TZOFFSETTO:+0000
TZNAME:GMT
END:STANDARD
END:VTIMEZONE
BEGIN:VEVENT
DTSTART:20080823T090000Z
DTEND:20080823T170000Z
LOCATION:山形市
TRANSP:OPAQUE
SEQUENCE:0
UID:pical060-e19d9ca124e70f0c0b50e5c13ff15720
DTSTAMP:20080515T150042Z
CATEGORIES:
DESCRIPTION:
SUMMARY:初段・2段受験者対象講習会
PRIORITY:0
CLASS:PUBLIC
END:VEVENT
END:VCALENDAR
