BEGIN:VCALENDAR
CALSCALE:GREGORIAN
X-WR-TIMEZONE;VALUE=TEXT:GMT
PRODID:PEAK Corporation - piCal -
X-WR-CALNAME;VALUE=TEXT:山形県健康福祉祭太極拳大会
VERSION:2.0
METHOD:PUBLISH
BEGIN:VTIMEZONE
TZID:GMT
BEGIN:STANDARD
DTSTART:19390101T000000
TZOFFSETFROM:+0000
TZOFFSETTO:+0000
TZNAME:GMT
END:STANDARD
END:VTIMEZONE
BEGIN:VEVENT
DTSTART:20080928T090000Z
DTEND:20080928T170000Z
LOCATION:山形県総合運動公園
TRANSP:OPAQUE
SEQUENCE:0
UID:pical060-d82edc8350d33ec8c51caad4483ac87b
DTSTAMP:20080515T150329Z
CATEGORIES:
DESCRIPTION:
SUMMARY:山形県健康福祉祭太極拳大会
PRIORITY:0
CLASS:PUBLIC
END:VEVENT
END:VCALENDAR
