BEGIN:VCALENDAR
CALSCALE:GREGORIAN
X-WR-TIMEZONE;VALUE=TEXT:GMT
PRODID:PEAK Corporation - piCal -
X-WR-CALNAME;VALUE=TEXT:東北ジュニア武術太極拳交流大会
VERSION:2.0
METHOD:PUBLISH
BEGIN:VTIMEZONE
TZID:GMT
BEGIN:STANDARD
DTSTART:19390101T000000
TZOFFSETFROM:+0000
TZOFFSETTO:+0000
TZNAME:GMT
END:STANDARD
END:VTIMEZONE
BEGIN:VEVENT
DTSTART:20081018T090000Z
DTEND:20081019T170000Z
LOCATION:青森県十和田市
TRANSP:OPAQUE
SEQUENCE:0
UID:pical060-8550183463fae418c3834643fc05b805
DTSTAMP:20080515T150429Z
CATEGORIES:
DESCRIPTION:
SUMMARY:東北ジュニア武術太極拳交流大会
PRIORITY:0
CLASS:PUBLIC
END:VEVENT
END:VCALENDAR
