BEGIN:VCALENDAR
CALSCALE:GREGORIAN
X-WR-TIMEZONE;VALUE=TEXT:GMT
PRODID:PEAK Corporation - piCal -
X-WR-CALNAME;VALUE=TEXT:第21回全国スポーツレクレーション祭太極拳大会
VERSION:2.0
METHOD:PUBLISH
BEGIN:VTIMEZONE
TZID:GMT
BEGIN:STANDARD
DTSTART:19390101T000000
TZOFFSETFROM:+0000
TZOFFSETTO:+0000
TZNAME:GMT
END:STANDARD
END:VTIMEZONE
BEGIN:VEVENT
DTSTART:20081019T090000Z
DTEND:20081019T170000Z
LOCATION:滋賀県
TRANSP:OPAQUE
SEQUENCE:1
UID:pical060-548cdc4a170b45ca378cad1783e675b1
DTSTAMP:20080515T150625Z
CATEGORIES:
DESCRIPTION:
SUMMARY:第21回全国スポーツレクレーション祭太極拳大会
PRIORITY:0
CLASS:PUBLIC
END:VEVENT
END:VCALENDAR
