BEGIN:VCALENDAR
CALSCALE:GREGORIAN
X-WR-TIMEZONE;VALUE=TEXT:GMT
PRODID:PEAK Corporation - piCal -
X-WR-CALNAME;VALUE=TEXT:技術講習会（協会主催）増田勝先生
VERSION:2.0
METHOD:PUBLISH
BEGIN:VTIMEZONE
TZID:GMT
BEGIN:STANDARD
DTSTART:19390101T000000
TZOFFSETFROM:+0000
TZOFFSETTO:+0000
TZNAME:GMT
END:STANDARD
END:VTIMEZONE
BEGIN:VEVENT
DTSTART:20081025T090000Z
DTEND:20081026T170000Z
LOCATION:山形市スポーツセンタ
TRANSP:OPAQUE
SEQUENCE:0
UID:pical060-279e2ec9f0b336ca1883c2c3363f271e
DTSTAMP:20080515T150800Z
CATEGORIES:
DESCRIPTION:
SUMMARY:技術講習会（協会主催）増田勝先生
PRIORITY:0
CLASS:PUBLIC
END:VEVENT
END:VCALENDAR
