BEGIN:VCALENDAR
CALSCALE:GREGORIAN
X-WR-TIMEZONE;VALUE=TEXT:GMT
PRODID:PEAK Corporation - piCal -
X-WR-CALNAME;VALUE=TEXT:第21回全国健康福祉祭太極拳交流大会
VERSION:2.0
METHOD:PUBLISH
BEGIN:VTIMEZONE
TZID:GMT
BEGIN:STANDARD
DTSTART:19390101T000000
TZOFFSETFROM:+0000
TZOFFSETTO:+0000
TZNAME:GMT
END:STANDARD
END:VTIMEZONE
BEGIN:VEVENT
DTSTART:20081026T090000Z
DTEND:20081026T170000Z
LOCATION:鹿児島県指宿市
TRANSP:OPAQUE
SEQUENCE:0
UID:pical060-e1e12d53fd0e94bd087f25b671c2c3ce
DTSTAMP:20080515T150920Z
CATEGORIES:
DESCRIPTION:
SUMMARY:第21回全国健康福祉祭太極拳交流大会
PRIORITY:0
CLASS:PUBLIC
END:VEVENT
END:VCALENDAR
