BEGIN:VCALENDAR
CALSCALE:GREGORIAN
X-WR-TIMEZONE;VALUE=TEXT:GMT
PRODID:PEAK Corporation - piCal -
X-WR-CALNAME;VALUE=TEXT:初段技能検定（山形）
VERSION:2.0
METHOD:PUBLISH
BEGIN:VTIMEZONE
TZID:GMT
BEGIN:STANDARD
DTSTART:19390101T000000
TZOFFSETFROM:+0000
TZOFFSETTO:+0000
TZNAME:GMT
END:STANDARD
END:VTIMEZONE
BEGIN:VEVENT
DTSTART:20081101T090000Z
DTEND:20081102T170000Z
LOCATION:山形県体育館
TRANSP:OPAQUE
SEQUENCE:1
UID:pical060-bc8ee4b7f26edc6d69b6739e6fa67aa9
DTSTAMP:20080515T151021Z
CATEGORIES:
DESCRIPTION:
SUMMARY:初段技能検定（山形）
PRIORITY:0
CLASS:PUBLIC
END:VEVENT
END:VCALENDAR
