BEGIN:VCALENDAR
CALSCALE:GREGORIAN
X-WR-TIMEZONE;VALUE=TEXT:GMT
PRODID:PEAK Corporation - piCal -
X-WR-CALNAME;VALUE=TEXT:レベルアップ講習会　連盟主催
VERSION:2.0
METHOD:PUBLISH
BEGIN:VTIMEZONE
TZID:GMT
BEGIN:STANDARD
DTSTART:19390101T000000
TZOFFSETFROM:+0000
TZOFFSETTO:+0000
TZNAME:GMT
END:STANDARD
END:VTIMEZONE
BEGIN:VEVENT
DTSTART:20081130T090000Z
DTEND:20081130T170000Z
LOCATION:山形市
TRANSP:OPAQUE
SEQUENCE:1
UID:pical060-cdd49f8495956d16d09bd9e2ab85c001
DTSTAMP:20080515T151147Z
CATEGORIES:
DESCRIPTION:
SUMMARY:レベルアップ講習会　連盟主催
PRIORITY:0
CLASS:PUBLIC
END:VEVENT
END:VCALENDAR
