BEGIN:VCALENDAR
CALSCALE:GREGORIAN
X-WR-TIMEZONE;VALUE=TEXT:GMT
PRODID:PEAK Corporation - piCal -
X-WR-CALNAME;VALUE=TEXT:2段・3段技能検定
VERSION:2.0
METHOD:PUBLISH
BEGIN:VTIMEZONE
TZID:GMT
BEGIN:STANDARD
DTSTART:19390101T000000
TZOFFSETFROM:+0000
TZOFFSETTO:+0000
TZNAME:GMT
END:STANDARD
END:VTIMEZONE
BEGIN:VEVENT
DTSTART:20081108T090000Z
DTEND:20081109T170000Z
LOCATION:宮城県武道館
TRANSP:OPAQUE
SEQUENCE:1
UID:pical060-37aef081aaba87c77b52f721a4d67a40
DTSTAMP:20080515T151223Z
CATEGORIES:
DESCRIPTION:
SUMMARY:2段・3段技能検定
PRIORITY:0
CLASS:PUBLIC
END:VEVENT
END:VCALENDAR
