BEGIN:VCALENDAR
CALSCALE:GREGORIAN
X-WR-TIMEZONE;VALUE=TEXT:GMT
PRODID:PEAK Corporation - piCal -
X-WR-CALNAME;VALUE=TEXT:後期1級技能検定
VERSION:2.0
METHOD:PUBLISH
BEGIN:VTIMEZONE
TZID:GMT
BEGIN:STANDARD
DTSTART:19390101T000000
TZOFFSETFROM:+0000
TZOFFSETTO:+0000
TZNAME:GMT
END:STANDARD
END:VTIMEZONE
BEGIN:VEVENT
DTSTART:20090222T090000Z
DTEND:20090222T170000Z
LOCATION:山形市
TRANSP:OPAQUE
SEQUENCE:0
UID:pical060-ca92ec26cfa614ef677b70ccb580de70
DTSTAMP:20080515T151338Z
CATEGORIES:
DESCRIPTION:
SUMMARY:後期1級技能検定
PRIORITY:0
CLASS:PUBLIC
END:VEVENT
END:VCALENDAR
