BEGIN:VCALENDAR
CALSCALE:GREGORIAN
X-WR-TIMEZONE;VALUE=TEXT:GMT
PRODID:PEAK Corporation - piCal -
X-WR-CALNAME;VALUE=TEXT:第１７回武術太極拳　フェスティバル並びに第１９回山形県健康福祉祭太極拳大会
VERSION:2.0
METHOD:PUBLISH
BEGIN:VTIMEZONE
TZID:GMT
BEGIN:STANDARD
DTSTART:19390101T000000
TZOFFSETFROM:+0000
TZOFFSETTO:+0000
TZNAME:GMT
END:STANDARD
END:VTIMEZONE
BEGIN:VEVENT
DTSTART:20100926T000000Z
DTEND:20100926T080000Z
LOCATION:
TRANSP:OPAQUE
SEQUENCE:0
UID:pical060-90fd611b172728c0796131d46d976de5
DTSTAMP:20100825T125136Z
CATEGORIES:
DESCRIPTION:　日　　時　　　平成２２年９月２６日（日）８：４５〜１７：００\n　　　　　　　　　　８：４５〜１２：００　　開会式・太極拳演武会\n　　　　　　　　　１３：００〜１４：２０　　山形県健康福祉祭太極拳大会\n　　　　　　　　　１４：２０〜１７：００　　武術太極拳競技会・閉会式\n　会　　場　　　山形県総合運動公園アリーナ\n　　　　　　　　　（天童市山王１−１　&#9742;０２３−６５５−５９００）\n　※　大会当日の昼食弁当の注文を受け付けますので、希望される方は、各教室毎に代金　　を添えて申し込んで下さい。\n　　　　　　　価格　７００円（お茶付き）　　申込締切　９月１１日（土）
SUMMARY:第１７回武術太極拳　フェスティバル並びに第１９回山形県健康福祉祭太極拳大会
PRIORITY:0
CLASS:PUBLIC
END:VEVENT
END:VCALENDAR
