BEGIN:VCALENDAR
CALSCALE:GREGORIAN
X-WR-TIMEZONE;VALUE=TEXT:GMT
PRODID:PEAK Corporation - piCal -
X-WR-CALNAME;VALUE=TEXT:演武練習会
VERSION:2.0
METHOD:PUBLISH
BEGIN:VTIMEZONE
TZID:GMT
BEGIN:STANDARD
DTSTART:19390101T000000
TZOFFSETFROM:+0000
TZOFFSETTO:+0000
TZNAME:GMT
END:STANDARD
END:VTIMEZONE
BEGIN:VEVENT
DTSTART:20100911T043000Z
DTEND:20100911T070000Z
LOCATION:
TRANSP:OPAQUE
SEQUENCE:0
UID:pical060-efee531ff839c657b24ac79e2856b1a1
DTSTAMP:20100825T125748Z
CATEGORIES:
DESCRIPTION:時間・場所　…　１３：３０〜１６：００ 　\n 山形県武道館３階剣道場\n
SUMMARY:演武練習会
PRIORITY:0
CLASS:PUBLIC
END:VEVENT
END:VCALENDAR
