BEGIN:VCALENDAR
CALSCALE:GREGORIAN
X-WR-TIMEZONE;VALUE=TEXT:GMT
PRODID:PEAK Corporation - piCal -
X-WR-CALNAME;VALUE=TEXT:中央教室
VERSION:2.0
METHOD:PUBLISH
BEGIN:VTIMEZONE
TZID:GMT
BEGIN:STANDARD
DTSTART:19390101T000000
TZOFFSETFROM:+0000
TZOFFSETTO:+0000
TZNAME:GMT
END:STANDARD
END:VTIMEZONE
BEGIN:VEVENT
DTSTART:20100918T093000Z
DTEND:20100918T120000Z
LOCATION:山形市中央公民館
TRANSP:OPAQUE
SEQUENCE:1
UID:pical060-54f94a4bb95c5b28a066cefa4703b5e2
DTSTAMP:20100901T135630Z
CATEGORIES:
DESCRIPTION:
SUMMARY:中央教室
PRIORITY:0
CLASS:PUBLIC
END:VEVENT
END:VCALENDAR
