BEGIN:VCALENDAR
CALSCALE:GREGORIAN
X-WR-TIMEZONE;VALUE=TEXT:GMT
PRODID:PEAK Corporation - piCal -
X-WR-CALNAME;VALUE=TEXT:南部教室
VERSION:2.0
METHOD:PUBLISH
BEGIN:VTIMEZONE
TZID:GMT
BEGIN:STANDARD
DTSTART:19390101T000000
TZOFFSETFROM:+0000
TZOFFSETTO:+0000
TZNAME:GMT
END:STANDARD
END:VTIMEZONE
BEGIN:VEVENT
DTSTART:20100905T004500Z
DTEND:20100905T030000Z
LOCATION:山形市南部公民館　３階集会室
TRANSP:OPAQUE
SEQUENCE:3
UID:pical060-7d3fb1c946376fc2cfba6c5f5e790092
DTSTAMP:20100901T135336Z
CATEGORIES:
DESCRIPTION:
SUMMARY:南部教室
PRIORITY:0
CLASS:PUBLIC
END:VEVENT
END:VCALENDAR
