BEGIN:VCALENDAR
CALSCALE:GREGORIAN
X-WR-TIMEZONE;VALUE=TEXT:GMT
PRODID:PEAK Corporation - piCal -
X-WR-CALNAME;VALUE=TEXT:南部教室
VERSION:2.0
METHOD:PUBLISH
BEGIN:VTIMEZONE
TZID:GMT
BEGIN:STANDARD
DTSTART:19390101T000000
TZOFFSETFROM:+0000
TZOFFSETTO:+0000
TZNAME:GMT
END:STANDARD
END:VTIMEZONE
BEGIN:VEVENT
DTSTART:20100910T004500Z
DTEND:20100910T030000Z
LOCATION:山形市南部公民館　３階集会室
TRANSP:OPAQUE
SEQUENCE:1
UID:pical060-ae7c7395bf9df3918b3c5f54ae6b466c
DTSTAMP:20100901T135435Z
CATEGORIES:
DESCRIPTION:
SUMMARY:南部教室
PRIORITY:0
CLASS:PUBLIC
END:VEVENT
END:VCALENDAR
