BEGIN:VCALENDAR
CALSCALE:GREGORIAN
X-WR-TIMEZONE;VALUE=TEXT:GMT
PRODID:PEAK Corporation - piCal -
X-WR-CALNAME;VALUE=TEXT:南部教室
VERSION:2.0
METHOD:PUBLISH
BEGIN:VTIMEZONE
TZID:GMT
BEGIN:STANDARD
DTSTART:19390101T000000
TZOFFSETFROM:+0000
TZOFFSETTO:+0000
TZNAME:GMT
END:STANDARD
END:VTIMEZONE
BEGIN:VEVENT
DTSTART:20100917T004500Z
DTEND:20100917T030000Z
LOCATION:山形県武道館３階剣道場
TRANSP:OPAQUE
SEQUENCE:2
UID:pical060-47de629b26124c52af4026daa604a13f
DTSTAMP:20100901T135604Z
CATEGORIES:
DESCRIPTION:
SUMMARY:南部教室
PRIORITY:0
CLASS:PUBLIC
END:VEVENT
END:VCALENDAR
