BEGIN:VCALENDAR
CALSCALE:GREGORIAN
X-WR-TIMEZONE;VALUE=TEXT:GMT
PRODID:PEAK Corporation - piCal -
X-WR-CALNAME;VALUE=TEXT:米沢城南教室
VERSION:2.0
METHOD:PUBLISH
BEGIN:VTIMEZONE
TZID:GMT
BEGIN:STANDARD
DTSTART:19390101T000000
TZOFFSETFROM:+0000
TZOFFSETTO:+0000
TZNAME:GMT
END:STANDARD
END:VTIMEZONE
BEGIN:VEVENT
DTSTART:20100915T103000Z
DTEND:20100915T123000Z
LOCATION:三條かの記念館
TRANSP:OPAQUE
SEQUENCE:1
UID:pical060-ffba7ff65bb8c69c8bc262e9e283509e
DTSTAMP:20100901T135536Z
CATEGORIES:
DESCRIPTION:
SUMMARY:米沢城南教室
PRIORITY:0
CLASS:PUBLIC
END:VEVENT
END:VCALENDAR
