BEGIN:VCALENDAR
CALSCALE:GREGORIAN
X-WR-TIMEZONE;VALUE=TEXT:GMT
PRODID:PEAK Corporation - piCal -
X-WR-CALNAME;VALUE=TEXT:米沢城南入門・初級教室
VERSION:2.0
METHOD:PUBLISH
BEGIN:VTIMEZONE
TZID:GMT
BEGIN:STANDARD
DTSTART:19390101T000000
TZOFFSETFROM:+0000
TZOFFSETTO:+0000
TZNAME:GMT
END:STANDARD
END:VTIMEZONE
BEGIN:VEVENT
DTSTART:20100920T010000Z
DTEND:20100920T030000Z
LOCATION:三條かの記念館
TRANSP:OPAQUE
SEQUENCE:1
UID:pical060-d7e1eee0971f1c1c01016fa6f18aa8c1
DTSTAMP:20100901T135641Z
CATEGORIES:
DESCRIPTION:
SUMMARY:米沢城南入門・初級教室
PRIORITY:0
CLASS:PUBLIC
END:VEVENT
END:VCALENDAR
