BEGIN:VCALENDAR
CALSCALE:GREGORIAN
X-WR-TIMEZONE;VALUE=TEXT:GMT
PRODID:PEAK Corporation - piCal -
X-WR-CALNAME;VALUE=TEXT:米沢城南・火曜教室
VERSION:2.0
METHOD:PUBLISH
BEGIN:VTIMEZONE
TZID:GMT
BEGIN:STANDARD
DTSTART:19390101T000000
TZOFFSETFROM:+0000
TZOFFSETTO:+0000
TZNAME:GMT
END:STANDARD
END:VTIMEZONE
BEGIN:VEVENT
DTSTART:20100914T010000Z
DTEND:20100914T030000Z
LOCATION:三條かの記念館
TRANSP:OPAQUE
SEQUENCE:1
UID:pical060-99ed0410ea6f4027901a625738224daf
DTSTAMP:20100901T135524Z
CATEGORIES:
DESCRIPTION:
SUMMARY:米沢城南・火曜教室
PRIORITY:0
CLASS:PUBLIC
END:VEVENT
END:VCALENDAR
