BEGIN:VCALENDAR
CALSCALE:GREGORIAN
X-WR-TIMEZONE;VALUE=TEXT:GMT
PRODID:PEAK Corporation - piCal -
X-WR-CALNAME;VALUE=TEXT:南陽教室
VERSION:2.0
METHOD:PUBLISH
BEGIN:VTIMEZONE
TZID:GMT
BEGIN:STANDARD
DTSTART:19390101T000000
TZOFFSETFROM:+0000
TZOFFSETTO:+0000
TZNAME:GMT
END:STANDARD
END:VTIMEZONE
BEGIN:VEVENT
DTSTART:20100902T080000Z
DTEND:20100902T120000Z
LOCATION:青少年ホーム
TRANSP:OPAQUE
SEQUENCE:1
UID:pical060-cf1a3d9448badee497871c7359871a66
DTSTAMP:20100901T134241Z
CATEGORIES:
DESCRIPTION:
SUMMARY:南陽教室
PRIORITY:0
CLASS:PUBLIC
END:VEVENT
END:VCALENDAR
