BEGIN:VCALENDAR
CALSCALE:GREGORIAN
X-WR-TIMEZONE;VALUE=TEXT:GMT
PRODID:PEAK Corporation - piCal -
X-WR-CALNAME;VALUE=TEXT:霞城教室
VERSION:2.0
METHOD:PUBLISH
BEGIN:VTIMEZONE
TZID:GMT
BEGIN:STANDARD
DTSTART:19390101T000000
TZOFFSETFROM:+0000
TZOFFSETTO:+0000
TZNAME:GMT
END:STANDARD
END:VTIMEZONE
BEGIN:VEVENT
DTSTART:20100904T001000Z
DTEND:20100904T030000Z
LOCATION:山形市霞城公民館　公民館３階講堂
TRANSP:OPAQUE
SEQUENCE:0
UID:pical060-2bb731d28e02f5c5e9d16c00789a30fc
DTSTAMP:20100901T134732Z
CATEGORIES:
DESCRIPTION:
SUMMARY:霞城教室
PRIORITY:0
CLASS:PUBLIC
END:VEVENT
END:VCALENDAR
