BEGIN:VCALENDAR
CALSCALE:GREGORIAN
X-WR-TIMEZONE;VALUE=TEXT:GMT
PRODID:PEAK Corporation - piCal -
X-WR-CALNAME;VALUE=TEXT:霞城教室
VERSION:2.0
METHOD:PUBLISH
BEGIN:VTIMEZONE
TZID:GMT
BEGIN:STANDARD
DTSTART:19390101T000000
TZOFFSETFROM:+0000
TZOFFSETTO:+0000
TZNAME:GMT
END:STANDARD
END:VTIMEZONE
BEGIN:VEVENT
DTSTART:20100925T001000Z
DTEND:20100925T030000Z
LOCATION:山形市霞城公民館　公民館３階講堂
TRANSP:OPAQUE
SEQUENCE:0
UID:pical060-4ffd9601176049abfd6623a3937ee1d1
DTSTAMP:20100901T134944Z
CATEGORIES:
DESCRIPTION:
SUMMARY:霞城教室
PRIORITY:0
CLASS:PUBLIC
END:VEVENT
END:VCALENDAR
