BEGIN:VCALENDAR
CALSCALE:GREGORIAN
X-WR-TIMEZONE;VALUE=TEXT:GMT
PRODID:PEAK Corporation - piCal -
X-WR-CALNAME;VALUE=TEXT:元木教室
VERSION:2.0
METHOD:PUBLISH
BEGIN:VTIMEZONE
TZID:GMT
BEGIN:STANDARD
DTSTART:19390101T000000
TZOFFSETFROM:+0000
TZOFFSETTO:+0000
TZNAME:GMT
END:STANDARD
END:VTIMEZONE
BEGIN:VEVENT
DTSTART:20100902T093000Z
DTEND:20100902T113000Z
LOCATION:山形市元木公民館　講　堂
TRANSP:OPAQUE
SEQUENCE:0
UID:pical060-3c5127a7b2aa51b5be4c1efb7f405164
DTSTAMP:20100901T135102Z
CATEGORIES:
DESCRIPTION:
SUMMARY:元木教室
PRIORITY:0
CLASS:PUBLIC
END:VEVENT
END:VCALENDAR
