BEGIN:VCALENDAR
CALSCALE:GREGORIAN
X-WR-TIMEZONE;VALUE=TEXT:GMT
PRODID:PEAK Corporation - piCal -
X-WR-CALNAME;VALUE=TEXT:元木教室
VERSION:2.0
METHOD:PUBLISH
BEGIN:VTIMEZONE
TZID:GMT
BEGIN:STANDARD
DTSTART:19390101T000000
TZOFFSETFROM:+0000
TZOFFSETTO:+0000
TZNAME:GMT
END:STANDARD
END:VTIMEZONE
BEGIN:VEVENT
DTSTART:20100909T093000Z
DTEND:20100909T113000Z
LOCATION:県体育館小競技場
TRANSP:OPAQUE
SEQUENCE:0
UID:pical060-7c02797e08fa28bf496cba45426c7caf
DTSTAMP:20100901T135140Z
CATEGORIES:
DESCRIPTION:
SUMMARY:元木教室
PRIORITY:0
CLASS:PUBLIC
END:VEVENT
END:VCALENDAR
