BEGIN:VCALENDAR
CALSCALE:GREGORIAN
X-WR-TIMEZONE;VALUE=TEXT:GMT
PRODID:PEAK Corporation - piCal -
X-WR-CALNAME;VALUE=TEXT:元木教室
VERSION:2.0
METHOD:PUBLISH
BEGIN:VTIMEZONE
TZID:GMT
BEGIN:STANDARD
DTSTART:19390101T000000
TZOFFSETFROM:+0000
TZOFFSETTO:+0000
TZNAME:GMT
END:STANDARD
END:VTIMEZONE
BEGIN:VEVENT
DTSTART:20100916T093000Z
DTEND:20100916T113000Z
LOCATION:山形市元木公民館　講　堂
TRANSP:OPAQUE
SEQUENCE:0
UID:pical060-dbac04d07012f4f388fd21e3653d4d90
DTSTAMP:20100901T135223Z
CATEGORIES:
DESCRIPTION:
SUMMARY:元木教室
PRIORITY:0
CLASS:PUBLIC
END:VEVENT
END:VCALENDAR
