BEGIN:VCALENDAR
CALSCALE:GREGORIAN
X-WR-TIMEZONE;VALUE=TEXT:GMT
PRODID:PEAK Corporation - piCal -
X-WR-CALNAME;VALUE=TEXT:中央教室
VERSION:2.0
METHOD:PUBLISH
BEGIN:VTIMEZONE
TZID:GMT
BEGIN:STANDARD
DTSTART:19390101T000000
TZOFFSETFROM:+0000
TZOFFSETTO:+0000
TZNAME:GMT
END:STANDARD
END:VTIMEZONE
BEGIN:VEVENT
DTSTART:20101016T093000Z
DTEND:20101016T120000Z
LOCATION:中央公民館
TRANSP:OPAQUE
SEQUENCE:0
UID:pical060-9879d28293db3f05d9daff01285528d4
DTSTAMP:20101003T104316Z
CATEGORIES:
DESCRIPTION:
SUMMARY:中央教室
PRIORITY:0
CLASS:PUBLIC
END:VEVENT
END:VCALENDAR
