BEGIN:VCALENDAR
CALSCALE:GREGORIAN
X-WR-TIMEZONE;VALUE=TEXT:GMT
PRODID:PEAK Corporation - piCal -
X-WR-CALNAME;VALUE=TEXT:米沢城南教室
VERSION:2.0
METHOD:PUBLISH
BEGIN:VTIMEZONE
TZID:GMT
BEGIN:STANDARD
DTSTART:19390101T000000
TZOFFSETFROM:+0000
TZOFFSETTO:+0000
TZNAME:GMT
END:STANDARD
END:VTIMEZONE
BEGIN:VEVENT
DTSTART:20101013T103000Z
DTEND:20101013T123000Z
LOCATION:三條かの記念館
TRANSP:OPAQUE
SEQUENCE:0
UID:pical060-7dac17000f0777a0a7d46c7e322e745c
DTSTAMP:20101003T105058Z
CATEGORIES:
DESCRIPTION:
SUMMARY:米沢城南教室
PRIORITY:0
CLASS:PUBLIC
END:VEVENT
END:VCALENDAR
