BEGIN:VCALENDAR
CALSCALE:GREGORIAN
X-WR-TIMEZONE;VALUE=TEXT:GMT
PRODID:PEAK Corporation - piCal -
X-WR-CALNAME;VALUE=TEXT:米沢城南・火曜教室
VERSION:2.0
METHOD:PUBLISH
BEGIN:VTIMEZONE
TZID:Etc/GMT-9
BEGIN:STANDARD
DTSTART:19390101T000000
TZOFFSETFROM:+0900
TZOFFSETTO:+0900
TZNAME:Etc/GMT-9
END:STANDARD
END:VTIMEZONE
BEGIN:VEVENT
DTSTART;TZID=Etc/GMT-9:20101005T100000
DTEND;TZID=Etc/GMT-9:20101005T120000
LOCATION:三條かの記念館
TRANSP:OPAQUE
SEQUENCE:0
UID:pical060-d53582fb88c3e93dd10e67c4febab9df
DTSTAMP:20101003T105748Z
CATEGORIES:
DESCRIPTION:
SUMMARY:米沢城南・火曜教室
RRULE:FREQ=WEEKLY;INTERVAL=1;BYDAY=TU;UNTIL=20101026T145959Z;WKST=SU
PRIORITY:0
CLASS:PUBLIC
END:VEVENT
END:VCALENDAR
