BEGIN:VCALENDAR
CALSCALE:GREGORIAN
X-WR-TIMEZONE;VALUE=TEXT:GMT
PRODID:PEAK Corporation - piCal -
X-WR-CALNAME;VALUE=TEXT:南陽教室
VERSION:2.0
METHOD:PUBLISH
BEGIN:VTIMEZONE
TZID:Etc/GMT-9
BEGIN:STANDARD
DTSTART:19390101T000000
TZOFFSETFROM:+0900
TZOFFSETTO:+0900
TZNAME:Etc/GMT-9
END:STANDARD
END:VTIMEZONE
BEGIN:VEVENT
DTSTART;TZID=Etc/GMT-9:20101007T190000
DTEND;TZID=Etc/GMT-9:20101007T210000
LOCATION:青少年ホーム
TRANSP:OPAQUE
SEQUENCE:1
UID:pical060-777175424a1beaed2c3ff6fd0b80b44c
DTSTAMP:20101003T111322Z
CATEGORIES:
DESCRIPTION:
SUMMARY:南陽教室
RRULE:FREQ=WEEKLY;INTERVAL=1;BYDAY=TH;UNTIL=20101028T145959Z;WKST=SU
PRIORITY:0
CLASS:PUBLIC
END:VEVENT
END:VCALENDAR
