BEGIN:VCALENDAR
CALSCALE:GREGORIAN
X-WR-TIMEZONE;VALUE=TEXT:GMT
PRODID:PEAK Corporation - piCal -
X-WR-CALNAME;VALUE=TEXT:米沢城南教室　練習日
VERSION:2.0
METHOD:PUBLISH
BEGIN:VTIMEZONE
TZID:GMT
BEGIN:STANDARD
DTSTART:19390101T000000
TZOFFSETFROM:+0000
TZOFFSETTO:+0000
TZNAME:GMT
END:STANDARD
END:VTIMEZONE
BEGIN:VEVENT
DTSTART:20110119T103000Z
DTEND:20110119T123000Z
LOCATION:三條かの記念館
TRANSP:OPAQUE
SEQUENCE:0
UID:pical060-cc69ab7f5edac19a33bd001a262c7ae9
DTSTAMP:20110110T015655Z
CATEGORIES:
DESCRIPTION:
SUMMARY:米沢城南教室　練習日
PRIORITY:0
CLASS:PUBLIC
END:VEVENT
END:VCALENDAR
