BEGIN:VCALENDAR
CALSCALE:GREGORIAN
X-WR-TIMEZONE;VALUE=TEXT:GMT
PRODID:PEAK Corporation - piCal -
X-WR-CALNAME;VALUE=TEXT:南陽教室　練習日
VERSION:2.0
METHOD:PUBLISH
BEGIN:VTIMEZONE
TZID:GMT
BEGIN:STANDARD
DTSTART:19390101T000000
TZOFFSETFROM:+0000
TZOFFSETTO:+0000
TZNAME:GMT
END:STANDARD
END:VTIMEZONE
BEGIN:VEVENT
DTSTART:20110127T100000Z
DTEND:20110127T120000Z
LOCATION:青少年ホーム
TRANSP:OPAQUE
SEQUENCE:0
UID:pical060-3b46b8f7a4e4b7c2afbdc8e1d925c147
DTSTAMP:20110110T020351Z
CATEGORIES:
DESCRIPTION:
SUMMARY:南陽教室　練習日
PRIORITY:0
CLASS:PUBLIC
END:VEVENT
END:VCALENDAR
