BEGIN:VCALENDAR
CALSCALE:GREGORIAN
X-WR-TIMEZONE;VALUE=TEXT:GMT
PRODID:PEAK Corporation - piCal -
X-WR-CALNAME;VALUE=TEXT:上山教室　練習日
VERSION:2.0
METHOD:PUBLISH
BEGIN:VTIMEZONE
TZID:GMT
BEGIN:STANDARD
DTSTART:19390101T000000
TZOFFSETFROM:+0000
TZOFFSETTO:+0000
TZNAME:GMT
END:STANDARD
END:VTIMEZONE
BEGIN:VEVENT
DTSTART:20110121T100000Z
DTEND:20110121T120000Z
LOCATION:カミン
TRANSP:OPAQUE
SEQUENCE:0
UID:pical060-f703fc5e430b1a7a374c9658fb03c84d
DTSTAMP:20110110T020524Z
CATEGORIES:
DESCRIPTION:
SUMMARY:上山教室　練習日
PRIORITY:0
CLASS:PUBLIC
END:VEVENT
END:VCALENDAR
