BEGIN:VCALENDAR
CALSCALE:GREGORIAN
X-WR-TIMEZONE;VALUE=TEXT:GMT
PRODID:PEAK Corporation - piCal -
X-WR-CALNAME;VALUE=TEXT:村山教室　練習日
VERSION:2.0
METHOD:PUBLISH
BEGIN:VTIMEZONE
TZID:GMT
BEGIN:STANDARD
DTSTART:19390101T000000
TZOFFSETFROM:+0000
TZOFFSETTO:+0000
TZNAME:GMT
END:STANDARD
END:VTIMEZONE
BEGIN:VEVENT
DTSTART:20110112T100000Z
DTEND:20110112T120000Z
LOCATION:市民体育館体育室
TRANSP:OPAQUE
SEQUENCE:0
UID:pical060-9c936226c3086ec362a6ef0a338fd038
DTSTAMP:20110110T020641Z
CATEGORIES:
DESCRIPTION:
SUMMARY:村山教室　練習日
PRIORITY:0
CLASS:PUBLIC
END:VEVENT
END:VCALENDAR
