BEGIN:VCALENDAR
CALSCALE:GREGORIAN
X-WR-TIMEZONE;VALUE=TEXT:GMT
PRODID:PEAK Corporation - piCal -
X-WR-CALNAME;VALUE=TEXT:寒河江教室　練習日
VERSION:2.0
METHOD:PUBLISH
BEGIN:VTIMEZONE
TZID:GMT
BEGIN:STANDARD
DTSTART:19390101T000000
TZOFFSETFROM:+0000
TZOFFSETTO:+0000
TZNAME:GMT
END:STANDARD
END:VTIMEZONE
BEGIN:VEVENT
DTSTART:20110117T010000Z
DTEND:20110117T030000Z
LOCATION:寒河江市体育館
TRANSP:OPAQUE
SEQUENCE:0
UID:pical060-4078d9207a2f5bee3a4486cfc6c62884
DTSTAMP:20110110T021000Z
CATEGORIES:
DESCRIPTION:
SUMMARY:寒河江教室　練習日
PRIORITY:0
CLASS:PUBLIC
END:VEVENT
END:VCALENDAR
