BEGIN:VCALENDAR
CALSCALE:GREGORIAN
X-WR-TIMEZONE;VALUE=TEXT:GMT
PRODID:PEAK Corporation - piCal -
X-WR-CALNAME;VALUE=TEXT:霞城教室　練習日
VERSION:2.0
METHOD:PUBLISH
BEGIN:VTIMEZONE
TZID:GMT
BEGIN:STANDARD
DTSTART:19390101T000000
TZOFFSETFROM:+0000
TZOFFSETTO:+0000
TZNAME:GMT
END:STANDARD
END:VTIMEZONE
BEGIN:VEVENT
DTSTART:20110115T001000Z
DTEND:20110115T030000Z
LOCATION:武道館３階剣道場
TRANSP:OPAQUE
SEQUENCE:0
UID:pical060-846d317719cfbc9bf68ed5ad13cd26ae
DTSTAMP:20110110T021120Z
CATEGORIES:
DESCRIPTION:
SUMMARY:霞城教室　練習日
PRIORITY:0
CLASS:PUBLIC
END:VEVENT
END:VCALENDAR
