BEGIN:VCALENDAR
CALSCALE:GREGORIAN
X-WR-TIMEZONE;VALUE=TEXT:GMT
PRODID:PEAK Corporation - piCal -
X-WR-CALNAME;VALUE=TEXT:中央教室
VERSION:2.0
METHOD:PUBLISH
BEGIN:VTIMEZONE
TZID:GMT
BEGIN:STANDARD
DTSTART:19390101T000000
TZOFFSETFROM:+0000
TZOFFSETTO:+0000
TZNAME:GMT
END:STANDARD
END:VTIMEZONE
BEGIN:VEVENT
DTSTART:20110326T093000Z
DTEND:20110326T120000Z
LOCATION:西部公民館
TRANSP:OPAQUE
SEQUENCE:0
UID:pical060-aee539f645afb1074fa91a89353f2093
DTSTAMP:20110228T125455Z
CATEGORIES:
DESCRIPTION:
SUMMARY:中央教室
PRIORITY:0
CLASS:PUBLIC
END:VEVENT
END:VCALENDAR
