BEGIN:VCALENDAR
CALSCALE:GREGORIAN
X-WR-TIMEZONE;VALUE=TEXT:GMT
PRODID:PEAK Corporation - piCal -
X-WR-CALNAME;VALUE=TEXT:南部教室
VERSION:2.0
METHOD:PUBLISH
BEGIN:VTIMEZONE
TZID:GMT
BEGIN:STANDARD
DTSTART:19390101T000000
TZOFFSETFROM:+0000
TZOFFSETTO:+0000
TZNAME:GMT
END:STANDARD
END:VTIMEZONE
BEGIN:VEVENT
DTSTART:20110318T004500Z
DTEND:20110318T030000Z
LOCATION:３階集会室
TRANSP:OPAQUE
SEQUENCE:0
UID:pical060-72b03d5736a4cad0d4f9efc2e5ad5b31
DTSTAMP:20110228T125729Z
CATEGORIES:
DESCRIPTION:
SUMMARY:南部教室
PRIORITY:0
CLASS:PUBLIC
END:VEVENT
END:VCALENDAR
