BEGIN:VCALENDAR
CALSCALE:GREGORIAN
X-WR-TIMEZONE;VALUE=TEXT:GMT
PRODID:PEAK Corporation - piCal -
X-WR-CALNAME;VALUE=TEXT:米沢城南入門・初級教室
VERSION:2.0
METHOD:PUBLISH
BEGIN:VTIMEZONE
TZID:GMT
BEGIN:STANDARD
DTSTART:19390101T000000
TZOFFSETFROM:+0000
TZOFFSETTO:+0000
TZNAME:GMT
END:STANDARD
END:VTIMEZONE
BEGIN:VEVENT
DTSTART:20110321T100000Z
DTEND:20110321T120000Z
LOCATION:三條かの記念館
TRANSP:OPAQUE
SEQUENCE:0
UID:pical060-64621b4a95fcc0f5e28cdde8e5829723
DTSTAMP:20110228T130434Z
CATEGORIES:
DESCRIPTION:
SUMMARY:米沢城南入門・初級教室
PRIORITY:0
CLASS:PUBLIC
END:VEVENT
END:VCALENDAR
