BEGIN:VCALENDAR
CALSCALE:GREGORIAN
X-WR-TIMEZONE;VALUE=TEXT:GMT
PRODID:PEAK Corporation - piCal -
X-WR-CALNAME;VALUE=TEXT:村山教室
VERSION:2.0
METHOD:PUBLISH
BEGIN:VTIMEZONE
TZID:Etc/GMT-9
BEGIN:STANDARD
DTSTART:19390101T000000
TZOFFSETFROM:+0900
TZOFFSETTO:+0900
TZNAME:Etc/GMT-9
END:STANDARD
END:VTIMEZONE
BEGIN:VEVENT
DTSTART;TZID=Etc/GMT-9:20110309T193000
DTEND;TZID=Etc/GMT-9:20110309T213000
LOCATION:市民体育館体育室
TRANSP:OPAQUE
SEQUENCE:2
UID:pical060-ee957d310fe698e5b94b5d87ba014134
DTSTAMP:20110228T131636Z
CATEGORIES:
DESCRIPTION:
SUMMARY:村山教室
RRULE:FREQ=WEEKLY;INTERVAL=1;BYDAY=WE;UNTIL=20110330T145959Z;WKST=SU
PRIORITY:0
CLASS:PUBLIC
END:VEVENT
END:VCALENDAR
