BEGIN:VCALENDAR
CALSCALE:GREGORIAN
X-WR-TIMEZONE;VALUE=TEXT:GMT
PRODID:PEAK Corporation - piCal -
X-WR-CALNAME;VALUE=TEXT:霞城教室
VERSION:2.0
METHOD:PUBLISH
BEGIN:VTIMEZONE
TZID:GMT
BEGIN:STANDARD
DTSTART:19390101T000000
TZOFFSETFROM:+0000
TZOFFSETTO:+0000
TZNAME:GMT
END:STANDARD
END:VTIMEZONE
BEGIN:VEVENT
DTSTART:20110319T001000Z
DTEND:20110319T030000Z
LOCATION:武道館３階剣道場  
TRANSP:OPAQUE
SEQUENCE:0
UID:pical060-9c85bbe6af09723bdd289726d2b81abe
DTSTAMP:20110228T132104Z
CATEGORIES:
DESCRIPTION:
SUMMARY:霞城教室
PRIORITY:0
CLASS:PUBLIC
END:VEVENT
END:VCALENDAR
