BEGIN:VCALENDAR
CALSCALE:GREGORIAN
X-WR-TIMEZONE;VALUE=TEXT:GMT
PRODID:PEAK Corporation - piCal -
X-WR-CALNAME;VALUE=TEXT:元木教室
VERSION:2.0
METHOD:PUBLISH
BEGIN:VTIMEZONE
TZID:GMT
BEGIN:STANDARD
DTSTART:19390101T000000
TZOFFSETFROM:+0000
TZOFFSETTO:+0000
TZNAME:GMT
END:STANDARD
END:VTIMEZONE
BEGIN:VEVENT
DTSTART:20110303T093000Z
DTEND:20110303T113000Z
LOCATION:和　室 
TRANSP:OPAQUE
SEQUENCE:0
UID:pical060-e927542caedab9c0ecbb83a42f2bb687
DTSTAMP:20110228T132156Z
CATEGORIES:
DESCRIPTION:
SUMMARY:元木教室
PRIORITY:0
CLASS:PUBLIC
END:VEVENT
END:VCALENDAR
