BEGIN:VCALENDAR
CALSCALE:GREGORIAN
X-WR-TIMEZONE;VALUE=TEXT:GMT
PRODID:PEAK Corporation - piCal -
X-WR-CALNAME;VALUE=TEXT:西部教室
VERSION:2.0
METHOD:PUBLISH
BEGIN:VTIMEZONE
TZID:GMT
BEGIN:STANDARD
DTSTART:19390101T000000
TZOFFSETFROM:+0000
TZOFFSETTO:+0000
TZNAME:GMT
END:STANDARD
END:VTIMEZONE
BEGIN:VEVENT
DTSTART:20110414T093000Z
DTEND:20110414T120000Z
LOCATION:西部公民館
TRANSP:OPAQUE
SEQUENCE:0
UID:pical060-56906214a7566ddfa176371d418a43ad
DTSTAMP:20110402T033323Z
CATEGORIES:
DESCRIPTION:
SUMMARY:西部教室
PRIORITY:0
CLASS:PUBLIC
END:VEVENT
END:VCALENDAR
