BEGIN:VCALENDAR
CALSCALE:GREGORIAN
X-WR-TIMEZONE;VALUE=TEXT:GMT
PRODID:PEAK Corporation - piCal -
X-WR-CALNAME;VALUE=TEXT:米沢城南入門・初級教室
VERSION:2.0
METHOD:PUBLISH
BEGIN:VTIMEZONE
TZID:GMT
BEGIN:STANDARD
DTSTART:19390101T000000
TZOFFSETFROM:+0000
TZOFFSETTO:+0000
TZNAME:GMT
END:STANDARD
END:VTIMEZONE
BEGIN:VEVENT
DTSTART:20110704T080000Z
DTEND:20110704T120000Z
LOCATION:三條かの記念館
TRANSP:OPAQUE
SEQUENCE:0
UID:pical060-2b7ee6b8d1efd20a7dbed15155c235df
DTSTAMP:20110705T124102Z
CATEGORIES:
DESCRIPTION:
SUMMARY:米沢城南入門・初級教室
PRIORITY:0
CLASS:PUBLIC
END:VEVENT
END:VCALENDAR
