BEGIN:VCALENDAR
CALSCALE:GREGORIAN
X-WR-TIMEZONE;VALUE=TEXT:GMT
PRODID:PEAK Corporation - piCal -
X-WR-CALNAME;VALUE=TEXT:霞城教室
VERSION:2.0
METHOD:PUBLISH
BEGIN:VTIMEZONE
TZID:GMT
BEGIN:STANDARD
DTSTART:19390101T000000
TZOFFSETFROM:+0000
TZOFFSETTO:+0000
TZNAME:GMT
END:STANDARD
END:VTIMEZONE
BEGIN:VEVENT
DTSTART:20110702T001000Z
DTEND:20110702T030000Z
LOCATION:公民館３階講堂
TRANSP:OPAQUE
SEQUENCE:0
UID:pical060-8894aae1206145d4e5d181957afb9b99
DTSTAMP:20110705T130143Z
CATEGORIES:
DESCRIPTION:
SUMMARY:霞城教室
PRIORITY:0
CLASS:PUBLIC
END:VEVENT
END:VCALENDAR
